BEGIN:VCALENDAR
VERSION:2.0
PRODID:-//First Priority of America - Great Plains - ECPv4.9.13//NONSGML v1.0//EN
CALSCALE:GREGORIAN
METHOD:PUBLISH
X-WR-CALNAME:First Priority of America - Great Plains
X-ORIGINAL-URL:https://greatplains.fpofamerica.com
X-WR-CALDESC:Events for First Priority of America - Great Plains
BEGIN:VTIMEZONE
TZID:UTC
BEGIN:STANDARD
TZOFFSETFROM:+0000
TZOFFSETTO:+0000
TZNAME:UTC
DTSTART:20220101T000000
END:STANDARD
END:VTIMEZONE
BEGIN:VEVENT
DTSTART;TZID=UTC:20221002T170000
DTEND;TZID=UTC:20221002T180000
DTSTAMP:20260423T170443
CREATED:20220826T134352Z
LAST-MODIFIED:20220826T134352Z
UID:3622-1664730000-1664733600@greatplains.fpofamerica.com
SUMMARY:Student Leader Planning Meeting
DESCRIPTION:
URL:https://greatplains.fpofamerica.com/events/student-leader-planning-meeting
END:VEVENT
END:VCALENDAR