BEGIN:VCALENDAR
VERSION:2.0
PRODID:-//First Priority of America - Great Plains - ECPv4.9.13//NONSGML v1.0//EN
CALSCALE:GREGORIAN
METHOD:PUBLISH
X-WR-CALNAME:First Priority of America - Great Plains
X-ORIGINAL-URL:https://greatplains.fpofamerica.com
X-WR-CALDESC:Events for First Priority of America - Great Plains
BEGIN:VTIMEZONE
TZID:UTC
BEGIN:STANDARD
TZOFFSETFROM:+0000
TZOFFSETTO:+0000
TZNAME:UTC
DTSTART:20210101T000000
END:STANDARD
END:VTIMEZONE
BEGIN:VEVENT
DTSTART;VALUE=DATE:20211107
DTEND;VALUE=DATE:20211108
DTSTAMP:20260423T182713
CREATED:20210825T192448Z
LAST-MODIFIED:20210825T192448Z
UID:3589-1636243200-1636329599@greatplains.fpofamerica.com
SUMMARY:MS/HS Leader Meeting
DESCRIPTION:
URL:https://greatplains.fpofamerica.com/events/ms-hs-leader-meeting-2
END:VEVENT
END:VCALENDAR