BEGIN:VCALENDAR
VERSION:2.0
PRODID:-//First Priority of America - Great Plains - ECPv4.9.13//NONSGML v1.0//EN
CALSCALE:GREGORIAN
METHOD:PUBLISH
X-WR-CALNAME:First Priority of America - Great Plains
X-ORIGINAL-URL:https://greatplains.fpofamerica.com
X-WR-CALDESC:Events for First Priority of America - Great Plains
BEGIN:VTIMEZONE
TZID:UTC
BEGIN:STANDARD
TZOFFSETFROM:+0000
TZOFFSETTO:+0000
TZNAME:UTC
DTSTART:20190101T000000
END:STANDARD
END:VTIMEZONE
BEGIN:VEVENT
DTSTART;VALUE=DATE:20190827
DTEND;VALUE=DATE:20190828
DTSTAMP:20260425T163618
CREATED:20190812T185546Z
LAST-MODIFIED:20190812T185546Z
UID:3500-1566864000-1566950399@greatplains.fpofamerica.com
SUMMARY:Leader Hangout
DESCRIPTION:Leader Hangout at the Erkonen’s Home.  7pm \n
URL:https://greatplains.fpofamerica.com/events/leader-hangout-4
END:VEVENT
END:VCALENDAR