BEGIN:VCALENDAR
VERSION:2.0
PRODID:-//First Priority of America - Great Plains - ECPv4.9.13//NONSGML v1.0//EN
CALSCALE:GREGORIAN
METHOD:PUBLISH
X-WR-CALNAME:First Priority of America - Great Plains
X-ORIGINAL-URL:https://greatplains.fpofamerica.com
X-WR-CALDESC:Events for First Priority of America - Great Plains
BEGIN:VTIMEZONE
TZID:UTC
BEGIN:STANDARD
TZOFFSETFROM:+0000
TZOFFSETTO:+0000
TZNAME:UTC
DTSTART:20190101T000000
END:STANDARD
END:VTIMEZONE
BEGIN:VEVENT
DTSTART;VALUE=DATE:20190714
DTEND;VALUE=DATE:20190715
DTSTAMP:20260425T164658
CREATED:20190501T040522Z
LAST-MODIFIED:20190501T040522Z
UID:3485-1563062400-1563148799@greatplains.fpofamerica.com
SUMMARY:Leader Hangout
DESCRIPTION:At Milky Way in Brandon\, SD. \n
URL:https://greatplains.fpofamerica.com/events/leader-hangout-2
END:VEVENT
END:VCALENDAR