BEGIN:VCALENDAR
VERSION:2.0
PRODID:-//First Priority of America - Great Plains - ECPv4.9.13//NONSGML v1.0//EN
CALSCALE:GREGORIAN
METHOD:PUBLISH
X-WR-CALNAME:First Priority of America - Great Plains
X-ORIGINAL-URL:https://greatplains.fpofamerica.com
X-WR-CALDESC:Events for First Priority of America - Great Plains
BEGIN:VTIMEZONE
TZID:UTC
BEGIN:STANDARD
TZOFFSETFROM:+0000
TZOFFSETTO:+0000
TZNAME:UTC
DTSTART:20190101T000000
END:STANDARD
END:VTIMEZONE
BEGIN:VEVENT
DTSTART;TZID=UTC:20190205T071500
DTEND;TZID=UTC:20190205T074500
DTSTAMP:20260425T234043
CREATED:20181204T201403Z
LAST-MODIFIED:20181204T201403Z
UID:3359-1549350900-1549352700@greatplains.fpofamerica.com
SUMMARY:HS First Priority Meeting
DESCRIPTION:“H” Week \n
URL:https://greatplains.fpofamerica.com/events/hs-first-priority-meeting-8
END:VEVENT
END:VCALENDAR