BEGIN:VCALENDAR
VERSION:2.0
PRODID:-//First Priority of America - Great Plains - ECPv4.9.13//NONSGML v1.0//EN
CALSCALE:GREGORIAN
METHOD:PUBLISH
X-WR-CALNAME:First Priority of America - Great Plains
X-ORIGINAL-URL:https://greatplains.fpofamerica.com
X-WR-CALDESC:Events for First Priority of America - Great Plains
BEGIN:VTIMEZONE
TZID:UTC
BEGIN:STANDARD
TZOFFSETFROM:+0000
TZOFFSETTO:+0000
TZNAME:UTC
DTSTART:20190101T000000
END:STANDARD
END:VTIMEZONE
BEGIN:VEVENT
DTSTART;TZID=UTC:20190129T071500
DTEND;TZID=UTC:20190129T074500
DTSTAMP:20260426T010457
CREATED:20181204T200308Z
LAST-MODIFIED:20181204T200308Z
UID:3343-1548746100-1548747900@greatplains.fpofamerica.com
SUMMARY:HS First Priority Meeting
DESCRIPTION:“E” Week \n
URL:https://greatplains.fpofamerica.com/events/hs-first-priority-meeting-7
END:VEVENT
END:VCALENDAR