BEGIN:VCALENDAR
VERSION:2.0
PRODID:-//First Priority of America - Great Plains - ECPv4.9.13//NONSGML v1.0//EN
CALSCALE:GREGORIAN
METHOD:PUBLISH
X-WR-CALNAME:First Priority of America - Great Plains
X-ORIGINAL-URL:https://greatplains.fpofamerica.com
X-WR-CALDESC:Events for First Priority of America - Great Plains
BEGIN:VTIMEZONE
TZID:UTC
BEGIN:STANDARD
TZOFFSETFROM:+0000
TZOFFSETTO:+0000
TZNAME:UTC
DTSTART:20190101T000000
END:STANDARD
END:VTIMEZONE
BEGIN:VEVENT
DTSTART;TZID=UTC:20190226T071500
DTEND;TZID=UTC:20190226T074500
DTSTAMP:20260425T221200
CREATED:20181204T201622Z
LAST-MODIFIED:20190124T153311Z
UID:3365-1551165300-1551167100@greatplains.fpofamerica.com
SUMMARY:HS First Priority Meeting Coffee Bar and Games/Gospel
DESCRIPTION:
URL:https://greatplains.fpofamerica.com/events/hs-first-priority-meeting-11
END:VEVENT
END:VCALENDAR