BEGIN:VCALENDAR
VERSION:2.0
PRODID:-//First Priority of America - Great Plains - ECPv4.9.13//NONSGML v1.0//EN
CALSCALE:GREGORIAN
METHOD:PUBLISH
X-WR-CALNAME:First Priority of America - Great Plains
X-ORIGINAL-URL:https://greatplains.fpofamerica.com
X-WR-CALDESC:Events for First Priority of America - Great Plains
BEGIN:VTIMEZONE
TZID:UTC
BEGIN:STANDARD
TZOFFSETFROM:+0000
TZOFFSETTO:+0000
TZNAME:UTC
DTSTART:20190101T000000
END:STANDARD
END:VTIMEZONE
BEGIN:VEVENT
DTSTART;VALUE=DATE:20190813
DTEND;VALUE=DATE:20190814
DTSTAMP:20260425T151707
CREATED:20190812T185418Z
LAST-MODIFIED:20190812T185418Z
UID:3496-1565654400-1565740799@greatplains.fpofamerica.com
SUMMARY:Freshmen Unity Day
DESCRIPTION:Come visit our booth during Freshmen Unity Day at BVHS \n
URL:https://greatplains.fpofamerica.com/events/freshmen-unity-day
END:VEVENT
END:VCALENDAR