BEGIN:VCALENDAR
VERSION:2.0
PRODID:-//First Priority of America - Great Plains - ECPv4.9.13//NONSGML v1.0//EN
CALSCALE:GREGORIAN
METHOD:PUBLISH
X-WR-CALNAME:First Priority of America - Great Plains
X-ORIGINAL-URL:https://greatplains.fpofamerica.com
X-WR-CALDESC:Events for First Priority of America - Great Plains
BEGIN:VTIMEZONE
TZID:UTC
BEGIN:STANDARD
TZOFFSETFROM:+0000
TZOFFSETTO:+0000
TZNAME:UTC
DTSTART:20190101T000000
END:STANDARD
END:VTIMEZONE
BEGIN:VEVENT
DTSTART;TZID=UTC:20190331T170000
DTEND;TZID=UTC:20190331T190000
DTSTAMP:20260425T185155
CREATED:20190124T004637Z
LAST-MODIFIED:20190124T004637Z
UID:3422-1554051600-1554058800@greatplains.fpofamerica.com
SUMMARY:FP Leader Meeting
DESCRIPTION:
URL:https://greatplains.fpofamerica.com/events/fp-leader-meeting
END:VEVENT
END:VCALENDAR