BEGIN:VCALENDAR
VERSION:2.0
PRODID:-//First Priority of America - Great Plains - ECPv4.9.13//NONSGML v1.0//EN
CALSCALE:GREGORIAN
METHOD:PUBLISH
X-WR-CALNAME:First Priority of America - Great Plains
X-ORIGINAL-URL:https://greatplains.fpofamerica.com
X-WR-CALDESC:Events for First Priority of America - Great Plains
BEGIN:VTIMEZONE
TZID:UTC
BEGIN:STANDARD
TZOFFSETFROM:+0000
TZOFFSETTO:+0000
TZNAME:UTC
DTSTART:20200101T000000
END:STANDARD
END:VTIMEZONE
BEGIN:VEVENT
DTSTART;VALUE=DATE:20200908
DTEND;VALUE=DATE:20200909
DTSTAMP:20260425T134938
CREATED:20200718T200344Z
LAST-MODIFIED:20200822T183808Z
UID:3547-1599523200-1599609599@greatplains.fpofamerica.com
SUMMARY:FP Launch for BVHS at Pizza Ranch
DESCRIPTION:
URL:https://greatplains.fpofamerica.com/events/fp-launch-at-bvhs
END:VEVENT
END:VCALENDAR