BEGIN:VCALENDAR
VERSION:2.0
PRODID:-//First Priority of America - Great Plains - ECPv4.9.13//NONSGML v1.0//EN
CALSCALE:GREGORIAN
METHOD:PUBLISH
X-WR-CALNAME:First Priority of America - Great Plains
X-ORIGINAL-URL:https://greatplains.fpofamerica.com
X-WR-CALDESC:Events for First Priority of America - Great Plains
BEGIN:VTIMEZONE
TZID:UTC
BEGIN:STANDARD
TZOFFSETFROM:+0000
TZOFFSETTO:+0000
TZNAME:UTC
DTSTART:20190101T000000
END:STANDARD
END:VTIMEZONE
BEGIN:VEVENT
DTSTART;TZID=UTC:20190101T100000
DTEND;TZID=UTC:20190101T120000
DTSTAMP:20260426T025540
CREATED:20181204T195343Z
LAST-MODIFIED:20181204T195343Z
UID:3319-1546336800-1546344000@greatplains.fpofamerica.com
SUMMARY:FP Kids Planning
DESCRIPTION:
URL:https://greatplains.fpofamerica.com/events/fp-kids-planning
END:VEVENT
END:VCALENDAR