BEGIN:VCALENDAR
VERSION:2.0
PRODID:-//First Priority of America - Great Plains - ECPv4.9.13//NONSGML v1.0//EN
CALSCALE:GREGORIAN
METHOD:PUBLISH
X-WR-CALNAME:First Priority of America - Great Plains
X-ORIGINAL-URL:https://greatplains.fpofamerica.com
X-WR-CALDESC:Events for First Priority of America - Great Plains
BEGIN:VTIMEZONE
TZID:UTC
BEGIN:STANDARD
TZOFFSETFROM:+0000
TZOFFSETTO:+0000
TZNAME:UTC
DTSTART:20190101T000000
END:STANDARD
END:VTIMEZONE
BEGIN:VEVENT
DTSTART;TZID=UTC:20190205T080000
DTEND;TZID=UTC:20190205T100000
DTSTAMP:20260425T235212
CREATED:20181204T200903Z
LAST-MODIFIED:20181204T200903Z
UID:3357-1549353600-1549360800@greatplains.fpofamerica.com
SUMMARY:FP Kids Meeting
DESCRIPTION:
URL:https://greatplains.fpofamerica.com/events/fp-kids-meeting-2
END:VEVENT
END:VCALENDAR