BEGIN:VCALENDAR
VERSION:2.0
PRODID:-//First Priority of America - Great Plains - ECPv4.9.13//NONSGML v1.0//EN
CALSCALE:GREGORIAN
METHOD:PUBLISH
X-WR-CALNAME:First Priority of America - Great Plains
X-ORIGINAL-URL:https://greatplains.fpofamerica.com
X-WR-CALDESC:Events for First Priority of America - Great Plains
BEGIN:VTIMEZONE
TZID:UTC
BEGIN:STANDARD
TZOFFSETFROM:+0000
TZOFFSETTO:+0000
TZNAME:UTC
DTSTART:20210101T000000
END:STANDARD
END:VTIMEZONE
BEGIN:VEVENT
DTSTART;VALUE=DATE:20210919
DTEND;VALUE=DATE:20210920
DTSTAMP:20260424T071220
CREATED:20210825T192346Z
LAST-MODIFIED:20210825T192346Z
UID:3585-1632009600-1632095999@greatplains.fpofamerica.com
SUMMARY:FP Kickoff Dinner (MS and HS Leaders)
DESCRIPTION:
URL:https://greatplains.fpofamerica.com/events/fp-kickoff-dinner-ms-and-hs-leaders
END:VEVENT
END:VCALENDAR