BEGIN:VCALENDAR
VERSION:2.0
PRODID:-//First Priority of America - Great Plains - ECPv4.9.13//NONSGML v1.0//EN
CALSCALE:GREGORIAN
METHOD:PUBLISH
X-WR-CALNAME:First Priority of America - Great Plains
X-ORIGINAL-URL:https://greatplains.fpofamerica.com
X-WR-CALDESC:Events for First Priority of America - Great Plains
BEGIN:VTIMEZONE
TZID:UTC
BEGIN:STANDARD
TZOFFSETFROM:+0000
TZOFFSETTO:+0000
TZNAME:UTC
DTSTART:20210101T000000
END:STANDARD
END:VTIMEZONE
BEGIN:VEVENT
DTSTART;VALUE=DATE:20211005
DTEND;VALUE=DATE:20211006
DTSTAMP:20260423T224238
CREATED:20210825T192225Z
LAST-MODIFIED:20210825T192225Z
UID:3581-1633392000-1633478399@greatplains.fpofamerica.com
SUMMARY:FP Club Meetings begin at BVHS
DESCRIPTION:
URL:https://greatplains.fpofamerica.com/events/fp-club-meetings-begin-at-bvhs
END:VEVENT
END:VCALENDAR