BEGIN:VCALENDAR
VERSION:2.0
PRODID:-//First Priority of America - Great Plains - ECPv4.9.13//NONSGML v1.0//EN
CALSCALE:GREGORIAN
METHOD:PUBLISH
X-WR-CALNAME:First Priority of America - Great Plains
X-ORIGINAL-URL:https://greatplains.fpofamerica.com
X-WR-CALDESC:Events for First Priority of America - Great Plains
BEGIN:VTIMEZONE
TZID:UTC
BEGIN:STANDARD
TZOFFSETFROM:+0000
TZOFFSETTO:+0000
TZNAME:UTC
DTSTART:20220101T000000
END:STANDARD
END:VTIMEZONE
BEGIN:VEVENT
DTSTART;VALUE=DATE:20220906
DTEND;VALUE=DATE:20220907
DTSTAMP:20260423T170242
CREATED:20220826T133859Z
LAST-MODIFIED:20220826T133859Z
UID:3610-1662422400-1662508799@greatplains.fpofamerica.com
SUMMARY:FP Begins at BVHS
DESCRIPTION:
URL:https://greatplains.fpofamerica.com/events/fp-begins-at-bvhs
END:VEVENT
END:VCALENDAR