BEGIN:VCALENDAR
VERSION:2.0
PRODID:-//First Priority of America - Great Plains - ECPv4.9.13//NONSGML v1.0//EN
CALSCALE:GREGORIAN
METHOD:PUBLISH
X-WR-CALNAME:First Priority of America - Great Plains
X-ORIGINAL-URL:https://greatplains.fpofamerica.com
X-WR-CALDESC:Events for First Priority of America - Great Plains
BEGIN:VTIMEZONE
TZID:UTC
BEGIN:STANDARD
TZOFFSETFROM:+0000
TZOFFSETTO:+0000
TZNAME:UTC
DTSTART:20190101T000000
END:STANDARD
END:VTIMEZONE
BEGIN:VEVENT
DTSTART;VALUE=DATE:20190821
DTEND;VALUE=DATE:20190822
DTSTAMP:20260425T154753
CREATED:20190812T185458Z
LAST-MODIFIED:20190812T185458Z
UID:3498-1566345600-1566431999@greatplains.fpofamerica.com
SUMMARY:First Day of School BVSD
DESCRIPTION:
URL:https://greatplains.fpofamerica.com/events/first-day-of-school-bvsd
END:VEVENT
END:VCALENDAR