BEGIN:VCALENDAR
VERSION:2.0
PRODID:-//First Priority of America - Great Plains - ECPv4.9.13//NONSGML v1.0//EN
CALSCALE:GREGORIAN
METHOD:PUBLISH
X-WR-CALNAME:First Priority of America - Great Plains
X-ORIGINAL-URL:https://greatplains.fpofamerica.com
X-WR-CALDESC:Events for First Priority of America - Great Plains
BEGIN:VTIMEZONE
TZID:UTC
BEGIN:STANDARD
TZOFFSETFROM:+0000
TZOFFSETTO:+0000
TZNAME:UTC
DTSTART:20180101T000000
END:STANDARD
END:VTIMEZONE
BEGIN:VEVENT
DTSTART;VALUE=DATE:20181221
DTEND;VALUE=DATE:20181222
DTSTAMP:20260426T025416
CREATED:20181204T195156Z
LAST-MODIFIED:20181204T195156Z
UID:3315-1545350400-1545436799@greatplains.fpofamerica.com
SUMMARY:BVSD Early Release
DESCRIPTION:Two hour early release today. \n
URL:https://greatplains.fpofamerica.com/events/bvsd-early-release
END:VEVENT
END:VCALENDAR