BEGIN:VCALENDAR
VERSION:2.0
PRODID:-//First Priority of America - Great Plains - ECPv4.9.13//NONSGML v1.0//EN
CALSCALE:GREGORIAN
METHOD:PUBLISH
X-WR-CALNAME:First Priority of America - Great Plains
X-ORIGINAL-URL:https://greatplains.fpofamerica.com
X-WR-CALDESC:Events for First Priority of America - Great Plains
BEGIN:VTIMEZONE
TZID:UTC
BEGIN:STANDARD
TZOFFSETFROM:+0000
TZOFFSETTO:+0000
TZNAME:UTC
DTSTART:20190101T000000
END:STANDARD
END:VTIMEZONE
BEGIN:VEVENT
DTSTART;TZID=UTC:20190425T071500
DTEND;TZID=UTC:20190425T074500
DTSTAMP:20260425T165532
CREATED:20190124T152546Z
LAST-MODIFIED:20190124T152604Z
UID:3450-1556176500-1556178300@greatplains.fpofamerica.com
SUMMARY:BVMS FP Meeting
DESCRIPTION:E Week \n
URL:https://greatplains.fpofamerica.com/events/bvms-fp-meeting-7
END:VEVENT
END:VCALENDAR