BEGIN:VCALENDAR
VERSION:2.0
PRODID:-//First Priority of America - Great Plains - ECPv4.9.13//NONSGML v1.0//EN
CALSCALE:GREGORIAN
METHOD:PUBLISH
X-WR-CALNAME:First Priority of America - Great Plains
X-ORIGINAL-URL:https://greatplains.fpofamerica.com
X-WR-CALDESC:Events for First Priority of America - Great Plains
BEGIN:VTIMEZONE
TZID:UTC
BEGIN:STANDARD
TZOFFSETFROM:+0000
TZOFFSETTO:+0000
TZNAME:UTC
DTSTART:20190101T000000
END:STANDARD
END:VTIMEZONE
BEGIN:VEVENT
DTSTART;TZID=UTC:20190228T150500
DTEND;TZID=UTC:20190228T154500
DTSTAMP:20260425T221758
CREATED:20181204T202219Z
LAST-MODIFIED:20181204T202219Z
UID:3379-1551366300-1551368700@greatplains.fpofamerica.com
SUMMARY:BVIS FP Kids Meeting
DESCRIPTION:
URL:https://greatplains.fpofamerica.com/events/bvis-fp-kids-meeting-11
END:VEVENT
END:VCALENDAR