BEGIN:VCALENDAR
VERSION:2.0
PRODID:-//First Priority of America - Great Plains - ECPv4.9.13//NONSGML v1.0//EN
CALSCALE:GREGORIAN
METHOD:PUBLISH
X-WR-CALNAME:First Priority of America - Great Plains
X-ORIGINAL-URL:https://greatplains.fpofamerica.com
X-WR-CALDESC:Events for First Priority of America - Great Plains
BEGIN:VTIMEZONE
TZID:UTC
BEGIN:STANDARD
TZOFFSETFROM:+0000
TZOFFSETTO:+0000
TZNAME:UTC
DTSTART:20190101T000000
END:STANDARD
END:VTIMEZONE
BEGIN:VEVENT
DTSTART;TZID=UTC:20190409T071500
DTEND;TZID=UTC:20190409T074500
DTSTAMP:20260425T201758
CREATED:20190124T151949Z
LAST-MODIFIED:20190124T151949Z
UID:3436-1554794100-1554795900@greatplains.fpofamerica.com
SUMMARY:BVHS FP Meeting
DESCRIPTION:O Week \n
URL:https://greatplains.fpofamerica.com/events/bvhs-fp-meeting-4
END:VEVENT
END:VCALENDAR