BEGIN:VCALENDAR
VERSION:2.0
PRODID:-//First Priority of America - Great Plains - ECPv4.9.13//NONSGML v1.0//EN
CALSCALE:GREGORIAN
METHOD:PUBLISH
X-WR-CALNAME:First Priority of America - Great Plains
X-ORIGINAL-URL:https://greatplains.fpofamerica.com
X-WR-CALDESC:Events for First Priority of America - Great Plains
BEGIN:VTIMEZONE
TZID:UTC
BEGIN:STANDARD
TZOFFSETFROM:+0000
TZOFFSETTO:+0000
TZNAME:UTC
DTSTART:20190101T000000
END:STANDARD
END:VTIMEZONE
BEGIN:VEVENT
DTSTART;TZID=UTC:20190326T071500
DTEND;TZID=UTC:20190326T074500
DTSTAMP:20260425T221327
CREATED:20190123T202558Z
LAST-MODIFIED:20190123T202558Z
UID:3414-1553584500-1553586300@greatplains.fpofamerica.com
SUMMARY:BVHS FP Meeting
DESCRIPTION:E Week \n
URL:https://greatplains.fpofamerica.com/events/bvhs-fp-meeting-2
END:VEVENT
END:VCALENDAR